BEGIN:VCALENDAR
PRODID:Nexudus
VERSION:2.0
BEGIN:VTIMEZONE
TZID:Asia/Baghdad
X-LIC-LOCATION:Asia/Baghdad
BEGIN:STANDARD
DTSTART:20071001T040000
RRULE:FREQ=YEARLY;BYDAY=1MO;BYMONTH=10
TZNAME:+03
TZOFFSETFROM:+0400
TZOFFSETTO:+0300
END:STANDARD
END:VTIMEZONE
BEGIN:VEVENT
DESCRIPTION:Proin sodales lobortis purus\, id elementum sapien. Pellentesqu
 e sed lacinia odio. Phasellus condimentum eleifend diam\, et sodales mauri
 s luctus id. Maecenas sollicitudin\, elit eu ullamcorper tincidunt\, dolor
  lectus semper nisi\, nec egestas mauris lorem id urna.\nEvent link: https
 ://cowork.rent/en/events/view/1122462356/ux-ui-event\n
DTEND;TZID=Asia/Baghdad:20190802T030000
DTSTAMP:20260420T194923Z
DTSTART;TZID=Asia/Baghdad:20190801T230000
LOCATION:CoWork
SEQUENCE:0
SUMMARY:UX/UI Event
UID:3a902ccb-0b80-425f-aff1-d66a097d572e
END:VEVENT
END:VCALENDAR
