BEGIN:VCALENDAR
PRODID:Nexudus
VERSION:2.0
BEGIN:VTIMEZONE
TZID:Asia/Baghdad
X-LIC-LOCATION:Asia/Baghdad
BEGIN:STANDARD
DTSTART:20071001T040000
RRULE:FREQ=YEARLY;BYDAY=1MO;BYMONTH=10
TZNAME:+03
TZOFFSETFROM:+0400
TZOFFSETTO:+0300
END:STANDARD
END:VTIMEZONE
BEGIN:VEVENT
DESCRIPTION:Expand your skills with tools that will help you to implement p
 roccesses in your projects. Aenean maximus dapibus ligula. Nullam tempus l
 ectus et volutpat aliquet. Aenean varius turpis felis\, quis tempor ipsum 
 rhoncus at. Integer iaculis volutpat pharetra. Donec ut nulla dapibus\, co
 nsectetur sem nec\, consectetur nunc. Nullam commodo\, ligula ac rutrum po
 rttitor\, mauris justo tempor ligula\, eget consectetur sapien lacus sed e
 x. In viverra auctor imperdiet. Sed ut finibus mauris. Suspendisse potenti
 .\nEvent link: https://cowork.rent/en/events/view/1122721612/design-thinki
 ng-workshop\n
DTEND;TZID=Asia/Baghdad:20190802T030000
DTSTAMP:20260420T182832Z
DTSTART;TZID=Asia/Baghdad:20190801T230000
LOCATION:CoWork
SEQUENCE:0
SUMMARY:Design Thinking workshop
UID:edca4772-c621-4c5d-9e8c-878793502626
END:VEVENT
END:VCALENDAR
