BEGIN:VCALENDAR
PRODID:Nexudus
VERSION:2.0
BEGIN:VTIMEZONE
TZID:Asia/Baghdad
X-LIC-LOCATION:Asia/Baghdad
BEGIN:STANDARD
DTSTART:20071001T040000
RRULE:FREQ=YEARLY;BYDAY=1MO;BYMONTH=10
TZNAME:+03
TZOFFSETFROM:+0400
TZOFFSETTO:+0300
END:STANDARD
END:VTIMEZONE
BEGIN:VEVENT
DESCRIPTION:Sed velit leo\, lacinia ac facilisis id\, egestas scelerisque l
 orem. Cras id quam nulla. Fusce pretium\, nisi vel iaculis finibus\, magna
  nisl pulvinar lorem\, ut rutrum urna felis tempor velit. Nulla facilisi. 
 Donec tempus ligula arcu\, sit amet ullamcorper risus volutpat at. Pellent
 esque euismod at sapien a sodales. Phasellus justo tellus\, laoreet dictum
  condimentum at\, consectetur sed lorem. \nEvent link: https://cowork.rent
 /en/events/view/1122694582/acoustic-concert\n
DTEND;TZID=Asia/Baghdad:20190805T030000
DTSTAMP:20260420T182610Z
DTSTART;TZID=Asia/Baghdad:20190804T230000
LOCATION:CoWork
SEQUENCE:0
SUMMARY:Acoustic concert
UID:9d8a888d-2a35-47ad-80cd-abb10fef0ac5
END:VEVENT
END:VCALENDAR
