BEGIN:VCALENDAR
PRODID:Nexudus
VERSION:2.0
BEGIN:VTIMEZONE
TZID:Asia/Baghdad
X-LIC-LOCATION:Asia/Baghdad
BEGIN:STANDARD
DTSTART:20071001T040000
RRULE:FREQ=YEARLY;BYDAY=1MO;BYMONTH=10
TZNAME:+03
TZOFFSETFROM:+0400
TZOFFSETTO:+0300
END:STANDARD
END:VTIMEZONE
BEGIN:VEVENT
DESCRIPTION:Donec tempus ligula arcu\, sit amet ullamcorper risus volutpat 
 at. Pellentesque euismod at sapien a sodales. Phasellus justo tellus\, lao
 reet dictum condimentum at\, consectetur sed lorem. Sed velit leo\, lacini
 a ac facilisis id\, egestas scelerisque lorem. Cras id quam nulla. Fusce p
 retium\, nisi vel iaculis finibus\, magna nisl pulvinar lorem\, ut rutrum 
 urna felis tempor velit. Nulla facilisi.\nEvent link: https://cowork.rent/
 en/events/view/1122465349/python-bootcamp\n
DTEND;TZID=Asia/Baghdad:20190804T030000
DTSTAMP:20260420T175859Z
DTSTART;TZID=Asia/Baghdad:20190803T230000
LOCATION:CoWork
SEQUENCE:0
SUMMARY:Python bootcamp
UID:ae81b111-4993-4fe8-a519-176f2b04b596
END:VEVENT
END:VCALENDAR
