BEGIN:VCALENDAR
PRODID:Nexudus
VERSION:2.0
BEGIN:VTIMEZONE
TZID:Asia/Baghdad
X-LIC-LOCATION:Asia/Baghdad
BEGIN:STANDARD
DTSTART:20071001T040000
RRULE:FREQ=YEARLY;BYDAY=1MO;BYMONTH=10
TZNAME:+03
TZOFFSETFROM:+0400
TZOFFSETTO:+0300
END:STANDARD
END:VTIMEZONE
BEGIN:VEVENT
DESCRIPTION:Join us and stay in shape with our cross-fit session\, hosted e
 very week in our gym. Donec tempus ligula arcu\, sit amet ullamcorper risu
 s volutpat at. Pellentesque euismod at sapien a sodales. Phasellus justo t
 ellus\, laoreet dictum condimentum at\, consectetur sed lorem. Sed velit l
 eo\, lacinia ac facilisis id\, egestas scelerisque lorem. Cras id quam nul
 la. Fusce pretium\, nisi vel iaculis finibus\, magna nisl pulvinar lorem\,
  ut rutrum urna felis tempor velit. Nulla facilisi.\nEvent link: https://c
 owork.rent/en/events/view/1122465350/cross-fit-session\n
DTEND;TZID=Asia/Baghdad:20190802T030000
DTSTAMP:20260420T162236Z
DTSTART;TZID=Asia/Baghdad:20190801T230000
LOCATION:CoWork
SEQUENCE:0
SUMMARY:Cross-fit Session
UID:9a7fa022-9d13-46e0-88c1-33d8b87fba7e
END:VEVENT
END:VCALENDAR
