BEGIN:VCALENDAR
PRODID:Nexudus
VERSION:2.0
BEGIN:VTIMEZONE
TZID:Asia/Baghdad
X-LIC-LOCATION:Asia/Baghdad
BEGIN:STANDARD
DTSTART:20071001T040000
RRULE:FREQ=YEARLY;BYDAY=1MO;BYMONTH=10
TZNAME:+03
TZOFFSETFROM:+0400
TZOFFSETTO:+0300
END:STANDARD
END:VTIMEZONE
BEGIN:VEVENT
DESCRIPTION:Join us every month to share creative and tasty salads. Nam imp
 erdiet sapien tincidunt faucibus accumsan. Maecenas vitae mauris nec lacus
  condimentum mollis at et tellus. Proin sodales lobortis purus\, id elemen
 tum sapien. Pellentesque sed lacinia odio. Phasellus condimentum eleifend 
 diam\, et sodales mauris luctus id. Maecenas sollicitudin\, elit eu ullamc
 orper tincidunt\, dolor lectus semper nisi\, nec egestas mauris lorem id u
 rna.\nEvent link: https://cowork.rent/en/events/view/1122465351/creative-s
 alads\n
DTEND;TZID=Asia/Baghdad:20190805T030000
DTSTAMP:20260420T162220Z
DTSTART;TZID=Asia/Baghdad:20190804T230000
LOCATION:CoWork
SEQUENCE:0
SUMMARY:Creative Salads
UID:fffa5c0b-86d7-41f1-9600-ff171ebc60ff
END:VEVENT
END:VCALENDAR
